BEGIN:VCALENDAR
VERSION:2.0
PRODID:-//Aux Délices de la Houille - ECPv6.15.11//NONSGML v1.0//EN
CALSCALE:GREGORIAN
METHOD:PUBLISH
X-ORIGINAL-URL:https://www.auxdelicesdelahouille.be
X-WR-CALDESC:Évènements pour Aux Délices de la Houille
REFRESH-INTERVAL;VALUE=DURATION:PT1H
X-Robots-Tag:noindex
X-PUBLISHED-TTL:PT1H
BEGIN:VTIMEZONE
TZID:UTC
BEGIN:STANDARD
TZOFFSETFROM:+0000
TZOFFSETTO:+0000
TZNAME:UTC
DTSTART:20150101T000000
END:STANDARD
END:VTIMEZONE
BEGIN:VEVENT
DTSTART;VALUE=DATE:20160310
DTEND;VALUE=DATE:20251213
DTSTAMP:20260420T120510
CREATED:20160210T112337Z
LAST-MODIFIED:20170403T035849Z
UID:1430-1457568000-1765583999@www.auxdelicesdelahouille.be
SUMMARY:Vestibulum ante ipsum primis in faucibus
DESCRIPTION:Quote meon an estimate et non interruptus stum tempus fugit espnto hiccup estrogen. Glorious baklava ex librus hup hey ad infinitum.
URL:https://www.auxdelicesdelahouille.be/event/vestibulum-ante-ipsum-primis-in-faucibus/
ATTACH;FMTTYPE=image/jpeg:https://www.auxdelicesdelahouille.be/wp-content/uploads/2016/02/event3.jpg
END:VEVENT
BEGIN:VEVENT
DTSTART;VALUE=DATE:20160218
DTEND;VALUE=DATE:20241213
DTSTAMP:20260420T120510
CREATED:20160210T111129Z
LAST-MODIFIED:20170403T035847Z
UID:1426-1455753600-1734047999@www.auxdelicesdelahouille.be
SUMMARY:Vivamus eget nibh etiam cursus leo vel metus
DESCRIPTION:Quote meon an estimate et non interruptus stum tempus fugit espnto hiccup estrogen. Glorious baklava ex librus hup hey ad infinitum.
URL:https://www.auxdelicesdelahouille.be/event/vivamus-eget-nibh-etiam-cursus-leo-vel-metus/
ATTACH;FMTTYPE=image/jpeg:https://www.auxdelicesdelahouille.be/wp-content/uploads/2016/02/event1.jpg
END:VEVENT
BEGIN:VEVENT
DTSTART;VALUE=DATE:20160212
DTEND;VALUE=DATE:20231215
DTSTAMP:20260420T120510
CREATED:20160210T112316Z
LAST-MODIFIED:20170403T035856Z
UID:1431-1455235200-1702598399@www.auxdelicesdelahouille.be
SUMMARY:Vivamus eget nibh etiam cursus leo vel metus
DESCRIPTION:Quote meon an estimate et non interruptus stum tempus fugit espnto hiccup estrogen. Glorious baklava ex librus hup hey ad infinitum.
URL:https://www.auxdelicesdelahouille.be/event/nue-ipsum-priucibus-orci-luctus-et-ultrices/
ATTACH;FMTTYPE=image/jpeg:https://www.auxdelicesdelahouille.be/wp-content/uploads/2016/02/event2.jpg
END:VEVENT
BEGIN:VEVENT
DTSTART;VALUE=DATE:20160210
DTEND;VALUE=DATE:20250305
DTSTAMP:20260420T120510
CREATED:20160210T125210Z
LAST-MODIFIED:20170403T035901Z
UID:1436-1455062400-1741132799@www.auxdelicesdelahouille.be
SUMMARY:Vivamus eget nibh etiam cursus leo vel metus
DESCRIPTION:Quote meon an estimate et non interruptus stum tempus fugit espnto hiccup estrogen. Glorious baklava ex librus hup hey ad infinitum.
URL:https://www.auxdelicesdelahouille.be/event/nue-ipsum-priucibus-orci-luctus-et-ultrices-2/
ATTACH;FMTTYPE=image/jpeg:https://www.auxdelicesdelahouille.be/wp-content/uploads/2015/05/post-3.jpg
END:VEVENT
END:VCALENDAR